BEGIN:VCALENDAR
PRODID:-//github.com/ical-org/ical.net//NONSGML ical.net 4.0//EN
VERSION:2.0
BEGIN:VEVENT
DESCRIPTION:Take Route 28 for 2 miles from Exit 12\nTurn right on Main Str
 eet\nTurn left on Ward Street\nLocation Notification Content bit.ly/Frwqt
 y\n----\nAll Meetings reminder\n----\nElena studied at the Central Music 
 School of the Moscow Conservatory. We're glad\nto have Elena as our newes
 t teacher.
DTSTAMP:20260420T121518Z
DTSTART;VALUE=DATE:20260906
LOCATION:Community Center Reeves Building\, 457 Walnut St Newton\, MA 02460
SEQUENCE:0
SUMMARY:testing waitlist with Elena
UID:9356456
END:VEVENT
BEGIN:VEVENT
DESCRIPTION:Take Route 28 for 2 miles from Exit 12\nTurn right on Main Str
 eet\nTurn left on Ward Street\nLocation Notification Content bit.ly/Frwqt
 y\n----\nAll Meetings reminder\n----\nElena studied at the Central Music 
 School of the Moscow Conservatory. We're glad\nto have Elena as our newes
 t teacher.
DTSTAMP:20260420T121518Z
DTSTART;VALUE=DATE:20260913
LOCATION:Community Center Reeves Building\, 457 Walnut St Newton\, MA 02460
SEQUENCE:0
SUMMARY:testing waitlist with Elena
UID:9356457
END:VEVENT
BEGIN:VEVENT
DESCRIPTION:Take Route 28 for 2 miles from Exit 12\nTurn right on Main Str
 eet\nTurn left on Ward Street\nLocation Notification Content bit.ly/Frwqt
 y\n----\nAll Meetings reminder\n----\nElena studied at the Central Music 
 School of the Moscow Conservatory. We're glad\nto have Elena as our newes
 t teacher.
DTSTAMP:20260420T121518Z
DTSTART;VALUE=DATE:20260920
LOCATION:Community Center Reeves Building\, 457 Walnut St Newton\, MA 02460
SEQUENCE:0
SUMMARY:testing waitlist with Elena
UID:9356458
END:VEVENT
BEGIN:VEVENT
DESCRIPTION:Take Route 28 for 2 miles from Exit 12\nTurn right on Main Str
 eet\nTurn left on Ward Street\nLocation Notification Content bit.ly/Frwqt
 y\n----\nAll Meetings reminder\n----\nElena studied at the Central Music 
 School of the Moscow Conservatory. We're glad\nto have Elena as our newes
 t teacher.
DTSTAMP:20260420T121518Z
DTSTART;VALUE=DATE:20260927
LOCATION:Community Center Reeves Building\, 457 Walnut St Newton\, MA 02460
SEQUENCE:0
SUMMARY:testing waitlist with Elena
UID:9356459
END:VEVENT
BEGIN:VEVENT
DESCRIPTION:Take Route 28 for 2 miles from Exit 12\nTurn right on Main Str
 eet\nTurn left on Ward Street\nLocation Notification Content bit.ly/Frwqt
 y\n----\nAll Meetings reminder\n----\nElena studied at the Central Music 
 School of the Moscow Conservatory. We're glad\nto have Elena as our newes
 t teacher.
DTSTAMP:20260420T121518Z
DTSTART;VALUE=DATE:20261004
LOCATION:Community Center Reeves Building\, 457 Walnut St Newton\, MA 02460
SEQUENCE:0
SUMMARY:testing waitlist with Elena
UID:9356460
END:VEVENT
BEGIN:VEVENT
DESCRIPTION:Take Route 28 for 2 miles from Exit 12\nTurn right on Main Str
 eet\nTurn left on Ward Street\nLocation Notification Content bit.ly/Frwqt
 y\n----\nAll Meetings reminder\n----\nElena studied at the Central Music 
 School of the Moscow Conservatory. We're glad\nto have Elena as our newes
 t teacher.
DTSTAMP:20260420T121518Z
DTSTART;VALUE=DATE:20261011
LOCATION:Community Center Reeves Building\, 457 Walnut St Newton\, MA 02460
SEQUENCE:0
SUMMARY:testing waitlist with Elena
UID:9356461
END:VEVENT
BEGIN:VEVENT
DESCRIPTION:Take Route 28 for 2 miles from Exit 12\nTurn right on Main Str
 eet\nTurn left on Ward Street\nLocation Notification Content bit.ly/Frwqt
 y\n----\nAll Meetings reminder\n----\nElena studied at the Central Music 
 School of the Moscow Conservatory. We're glad\nto have Elena as our newes
 t teacher.
DTSTAMP:20260420T121518Z
DTSTART;VALUE=DATE:20261018
LOCATION:Community Center Reeves Building\, 457 Walnut St Newton\, MA 02460
SEQUENCE:0
SUMMARY:testing waitlist with Elena
UID:9356462
END:VEVENT
BEGIN:VEVENT
DESCRIPTION:Take Route 28 for 2 miles from Exit 12\nTurn right on Main Str
 eet\nTurn left on Ward Street\nLocation Notification Content bit.ly/Frwqt
 y\n----\nAll Meetings reminder\n----\nElena studied at the Central Music 
 School of the Moscow Conservatory. We're glad\nto have Elena as our newes
 t teacher.
DTSTAMP:20260420T121518Z
DTSTART;VALUE=DATE:20261025
LOCATION:Community Center Reeves Building\, 457 Walnut St Newton\, MA 02460
SEQUENCE:0
SUMMARY:testing waitlist with Elena
UID:9356463
END:VEVENT
BEGIN:VEVENT
DESCRIPTION:Take Route 28 for 2 miles from Exit 12\nTurn right on Main Str
 eet\nTurn left on Ward Street\nLocation Notification Content bit.ly/Frwqt
 y\n----\nAll Meetings reminder\n----\nElena studied at the Central Music 
 School of the Moscow Conservatory. We're glad\nto have Elena as our newes
 t teacher.
DTSTAMP:20260420T121518Z
DTSTART;VALUE=DATE:20261101
LOCATION:Community Center Reeves Building\, 457 Walnut St Newton\, MA 02460
SEQUENCE:0
SUMMARY:testing waitlist with Elena
UID:9356464
END:VEVENT
BEGIN:VEVENT
DESCRIPTION:Take Route 28 for 2 miles from Exit 12\nTurn right on Main Str
 eet\nTurn left on Ward Street\nLocation Notification Content bit.ly/Frwqt
 y\n----\nAll Meetings reminder\n----\nElena studied at the Central Music 
 School of the Moscow Conservatory. We're glad\nto have Elena as our newes
 t teacher.
DTSTAMP:20260420T121518Z
DTSTART;VALUE=DATE:20261108
LOCATION:Community Center Reeves Building\, 457 Walnut St Newton\, MA 02460
SEQUENCE:0
SUMMARY:testing waitlist with Elena
UID:9356465
END:VEVENT
BEGIN:VTIMEZONE
TZID:US/Eastern
X-LIC-LOCATION:US/Eastern
END:VTIMEZONE
END:VCALENDAR
