BEGIN:VCALENDAR
PRODID:-//github.com/ical-org/ical.net//NONSGML ical.net 4.0//EN
VERSION:2.0
BEGIN:VEVENT
DESCRIPTION:Take Route 28 for 2 miles from Exit 12\nTurn right on Main Str
 eet\nTurn left on Ward Street\nLocation Notification Content bit.ly/Frwqt
 y\n----\nMusic classes for kids.....\n----\nFran is a classically trained
  opera singer who has travelled all over the North\nAmerica to perform. S
 he has won voice and violin competitions in Austin\,\nSeattle\, and Miami
 . She is a certified Music Together teacher and has been\nteaching classe
 s for the last 6 years.
DTEND:20260903T101500
DTSTAMP:20260420T121523Z
DTSTART:20260903T091500
LOCATION:Community Center Reeves Building - Room 1\, 457 Walnut St Newton\
 , MA 02460
SEQUENCE:0
SUMMARY:Class Restriction Testing with Fran
UID:9356446
END:VEVENT
BEGIN:VEVENT
DESCRIPTION:Take Route 28 for 2 miles from Exit 12\nTurn right on Main Str
 eet\nTurn left on Ward Street\nLocation Notification Content bit.ly/Frwqt
 y\n----\nMusic classes for kids.....\n----\nFran is a classically trained
  opera singer who has travelled all over the North\nAmerica to perform. S
 he has won voice and violin competitions in Austin\,\nSeattle\, and Miami
 . She is a certified Music Together teacher and has been\nteaching classe
 s for the last 6 years.
DTEND:20260910T101500
DTSTAMP:20260420T121523Z
DTSTART:20260910T091500
LOCATION:Community Center Reeves Building - Room 1\, 457 Walnut St Newton\
 , MA 02460
SEQUENCE:0
SUMMARY:Class Restriction Testing with Fran
UID:9356447
END:VEVENT
BEGIN:VEVENT
DESCRIPTION:Take Route 28 for 2 miles from Exit 12\nTurn right on Main Str
 eet\nTurn left on Ward Street\nLocation Notification Content bit.ly/Frwqt
 y\n----\nMusic classes for kids.....\n----\nFran is a classically trained
  opera singer who has travelled all over the North\nAmerica to perform. S
 he has won voice and violin competitions in Austin\,\nSeattle\, and Miami
 . She is a certified Music Together teacher and has been\nteaching classe
 s for the last 6 years.
DTEND:20260917T101500
DTSTAMP:20260420T121523Z
DTSTART:20260917T091500
LOCATION:Community Center Reeves Building - Room 1\, 457 Walnut St Newton\
 , MA 02460
SEQUENCE:0
SUMMARY:Class Restriction Testing with Fran
UID:9356448
END:VEVENT
BEGIN:VEVENT
DESCRIPTION:Take Route 28 for 2 miles from Exit 12\nTurn right on Main Str
 eet\nTurn left on Ward Street\nLocation Notification Content bit.ly/Frwqt
 y\n----\nMusic classes for kids.....\n----\nFran is a classically trained
  opera singer who has travelled all over the North\nAmerica to perform. S
 he has won voice and violin competitions in Austin\,\nSeattle\, and Miami
 . She is a certified Music Together teacher and has been\nteaching classe
 s for the last 6 years.
DTEND:20260924T101500
DTSTAMP:20260420T121523Z
DTSTART:20260924T091500
LOCATION:Community Center Reeves Building - Room 1\, 457 Walnut St Newton\
 , MA 02460
SEQUENCE:0
SUMMARY:Class Restriction Testing with Fran
UID:9356449
END:VEVENT
BEGIN:VEVENT
DESCRIPTION:Take Route 28 for 2 miles from Exit 12\nTurn right on Main Str
 eet\nTurn left on Ward Street\nLocation Notification Content bit.ly/Frwqt
 y\n----\nMusic classes for kids.....\n----\nFran is a classically trained
  opera singer who has travelled all over the North\nAmerica to perform. S
 he has won voice and violin competitions in Austin\,\nSeattle\, and Miami
 . She is a certified Music Together teacher and has been\nteaching classe
 s for the last 6 years.
DTEND:20261001T101500
DTSTAMP:20260420T121523Z
DTSTART:20261001T091500
LOCATION:Community Center Reeves Building - Room 1\, 457 Walnut St Newton\
 , MA 02460
SEQUENCE:0
SUMMARY:Class Restriction Testing with Fran
UID:9356450
END:VEVENT
BEGIN:VEVENT
DESCRIPTION:Take Route 28 for 2 miles from Exit 12\nTurn right on Main Str
 eet\nTurn left on Ward Street\nLocation Notification Content bit.ly/Frwqt
 y\n----\nMusic classes for kids.....\n----\nFran is a classically trained
  opera singer who has travelled all over the North\nAmerica to perform. S
 he has won voice and violin competitions in Austin\,\nSeattle\, and Miami
 . She is a certified Music Together teacher and has been\nteaching classe
 s for the last 6 years.
DTEND:20261008T101500
DTSTAMP:20260420T121523Z
DTSTART:20261008T091500
LOCATION:Community Center Reeves Building - Room 1\, 457 Walnut St Newton\
 , MA 02460
SEQUENCE:0
SUMMARY:Class Restriction Testing with Fran
UID:9356451
END:VEVENT
BEGIN:VEVENT
DESCRIPTION:Take Route 28 for 2 miles from Exit 12\nTurn right on Main Str
 eet\nTurn left on Ward Street\nLocation Notification Content bit.ly/Frwqt
 y\n----\nMusic classes for kids.....\n----\nFran is a classically trained
  opera singer who has travelled all over the North\nAmerica to perform. S
 he has won voice and violin competitions in Austin\,\nSeattle\, and Miami
 . She is a certified Music Together teacher and has been\nteaching classe
 s for the last 6 years.
DTEND:20261015T101500
DTSTAMP:20260420T121523Z
DTSTART:20261015T091500
LOCATION:Community Center Reeves Building - Room 1\, 457 Walnut St Newton\
 , MA 02460
SEQUENCE:0
SUMMARY:Class Restriction Testing with Fran
UID:9356452
END:VEVENT
BEGIN:VEVENT
DESCRIPTION:Take Route 28 for 2 miles from Exit 12\nTurn right on Main Str
 eet\nTurn left on Ward Street\nLocation Notification Content bit.ly/Frwqt
 y\n----\nMusic classes for kids.....\n----\nFran is a classically trained
  opera singer who has travelled all over the North\nAmerica to perform. S
 he has won voice and violin competitions in Austin\,\nSeattle\, and Miami
 . She is a certified Music Together teacher and has been\nteaching classe
 s for the last 6 years.
DTEND:20261022T101500
DTSTAMP:20260420T121523Z
DTSTART:20261022T091500
LOCATION:Community Center Reeves Building - Room 1\, 457 Walnut St Newton\
 , MA 02460
SEQUENCE:0
SUMMARY:Class Restriction Testing with Fran
UID:9356453
END:VEVENT
BEGIN:VEVENT
DESCRIPTION:Take Route 28 for 2 miles from Exit 12\nTurn right on Main Str
 eet\nTurn left on Ward Street\nLocation Notification Content bit.ly/Frwqt
 y\n----\nMusic classes for kids.....\n----\nFran is a classically trained
  opera singer who has travelled all over the North\nAmerica to perform. S
 he has won voice and violin competitions in Austin\,\nSeattle\, and Miami
 . She is a certified Music Together teacher and has been\nteaching classe
 s for the last 6 years.
DTEND:20261029T101500
DTSTAMP:20260420T121523Z
DTSTART:20261029T091500
LOCATION:Community Center Reeves Building - Room 1\, 457 Walnut St Newton\
 , MA 02460
SEQUENCE:0
SUMMARY:Class Restriction Testing with Fran
UID:9356454
END:VEVENT
BEGIN:VEVENT
DESCRIPTION:Take Route 28 for 2 miles from Exit 12\nTurn right on Main Str
 eet\nTurn left on Ward Street\nLocation Notification Content bit.ly/Frwqt
 y\n----\nMusic classes for kids.....\n----\nFran is a classically trained
  opera singer who has travelled all over the North\nAmerica to perform. S
 he has won voice and violin competitions in Austin\,\nSeattle\, and Miami
 . She is a certified Music Together teacher and has been\nteaching classe
 s for the last 6 years.
DTEND:20261105T101500
DTSTAMP:20260420T121523Z
DTSTART:20261105T091500
LOCATION:Community Center Reeves Building - Room 1\, 457 Walnut St Newton\
 , MA 02460
SEQUENCE:0
SUMMARY:Class Restriction Testing with Fran
UID:9356455
END:VEVENT
BEGIN:VTIMEZONE
TZID:US/Eastern
X-LIC-LOCATION:US/Eastern
END:VTIMEZONE
END:VCALENDAR
