BEGIN:VCALENDAR
PRODID:-//github.com/ical-org/ical.net//NONSGML ical.net 4.0//EN
VERSION:2.0
BEGIN:VEVENT
DESCRIPTION:Take Route 28 for 2 miles from Exit 12\nTurn right on Main Str
 eet\nTurn left on Ward Street\nLocation Notification Content bit.ly/Frwqt
 y\n----\nAll Meetings reminder\n----\nElena studied at the Central Music 
 School of the Moscow Conservatory. We're glad\nto have Elena as our newes
 t teacher.
DTSTAMP:20260420T132813Z
DTSTART:20260906T100000
LOCATION:Community Center Reeves Building\, 457 Walnut St Newton\, MA 02460
SEQUENCE:0
SUMMARY:Holidays processing with Elena
UID:9356436
END:VEVENT
BEGIN:VEVENT
DESCRIPTION:Take Route 28 for 2 miles from Exit 12\nTurn right on Main Str
 eet\nTurn left on Ward Street\nLocation Notification Content bit.ly/Frwqt
 y\n----\nAll Meetings reminder\n----\nElena studied at the Central Music 
 School of the Moscow Conservatory. We're glad\nto have Elena as our newes
 t teacher.
DTSTAMP:20260420T132813Z
DTSTART:20260913T100000
LOCATION:Community Center Reeves Building\, 457 Walnut St Newton\, MA 02460
SEQUENCE:0
SUMMARY:Holidays processing with Elena
UID:9356437
END:VEVENT
BEGIN:VEVENT
DESCRIPTION:Take Route 28 for 2 miles from Exit 12\nTurn right on Main Str
 eet\nTurn left on Ward Street\nLocation Notification Content bit.ly/Frwqt
 y\n----\nAll Meetings reminder\n----\nElena studied at the Central Music 
 School of the Moscow Conservatory. We're glad\nto have Elena as our newes
 t teacher.
DTSTAMP:20260420T132813Z
DTSTART:20260920T100000
LOCATION:Community Center Reeves Building\, 457 Walnut St Newton\, MA 02460
SEQUENCE:0
SUMMARY:Holidays processing with Elena
UID:9356438
END:VEVENT
BEGIN:VEVENT
DESCRIPTION:Take Route 28 for 2 miles from Exit 12\nTurn right on Main Str
 eet\nTurn left on Ward Street\nLocation Notification Content bit.ly/Frwqt
 y\n----\nAll Meetings reminder\n----\nElena studied at the Central Music 
 School of the Moscow Conservatory. We're glad\nto have Elena as our newes
 t teacher.
DTSTAMP:20260420T132813Z
DTSTART:20260927T100000
LOCATION:Community Center Reeves Building\, 457 Walnut St Newton\, MA 02460
SEQUENCE:0
SUMMARY:Holidays processing with Elena
UID:9356439
END:VEVENT
BEGIN:VEVENT
DESCRIPTION:Take Route 28 for 2 miles from Exit 12\nTurn right on Main Str
 eet\nTurn left on Ward Street\nLocation Notification Content bit.ly/Frwqt
 y\n----\nAll Meetings reminder\n----\nElena studied at the Central Music 
 School of the Moscow Conservatory. We're glad\nto have Elena as our newes
 t teacher.
DTSTAMP:20260420T132813Z
DTSTART:20261004T100000
LOCATION:Community Center Reeves Building\, 457 Walnut St Newton\, MA 02460
SEQUENCE:0
SUMMARY:Holidays processing with Elena
UID:9356440
END:VEVENT
BEGIN:VEVENT
DESCRIPTION:Take Route 28 for 2 miles from Exit 12\nTurn right on Main Str
 eet\nTurn left on Ward Street\nLocation Notification Content bit.ly/Frwqt
 y\n----\nAll Meetings reminder\n----\nElena studied at the Central Music 
 School of the Moscow Conservatory. We're glad\nto have Elena as our newes
 t teacher.
DTSTAMP:20260420T132813Z
DTSTART:20261011T100000
LOCATION:Community Center Reeves Building\, 457 Walnut St Newton\, MA 02460
SEQUENCE:0
SUMMARY:Holidays processing with Elena
UID:9356441
END:VEVENT
BEGIN:VEVENT
DESCRIPTION:Take Route 28 for 2 miles from Exit 12\nTurn right on Main Str
 eet\nTurn left on Ward Street\nLocation Notification Content bit.ly/Frwqt
 y\n----\nAll Meetings reminder\n----\nElena studied at the Central Music 
 School of the Moscow Conservatory. We're glad\nto have Elena as our newes
 t teacher.
DTSTAMP:20260420T132813Z
DTSTART:20261018T100000
LOCATION:Community Center Reeves Building\, 457 Walnut St Newton\, MA 02460
SEQUENCE:0
SUMMARY:Holidays processing with Elena
UID:9356442
END:VEVENT
BEGIN:VEVENT
DESCRIPTION:Take Route 28 for 2 miles from Exit 12\nTurn right on Main Str
 eet\nTurn left on Ward Street\nLocation Notification Content bit.ly/Frwqt
 y\n----\nAll Meetings reminder\n----\nElena studied at the Central Music 
 School of the Moscow Conservatory. We're glad\nto have Elena as our newes
 t teacher.
DTSTAMP:20260420T132813Z
DTSTART:20261025T100000
LOCATION:Community Center Reeves Building\, 457 Walnut St Newton\, MA 02460
SEQUENCE:0
SUMMARY:Holidays processing with Elena
UID:9356443
END:VEVENT
BEGIN:VEVENT
DESCRIPTION:Take Route 28 for 2 miles from Exit 12\nTurn right on Main Str
 eet\nTurn left on Ward Street\nLocation Notification Content bit.ly/Frwqt
 y\n----\nAll Meetings reminder\n----\nElena studied at the Central Music 
 School of the Moscow Conservatory. We're glad\nto have Elena as our newes
 t teacher.
DTSTAMP:20260420T132813Z
DTSTART:20261101T100000
LOCATION:Community Center Reeves Building\, 457 Walnut St Newton\, MA 02460
SEQUENCE:0
SUMMARY:Holidays processing with Elena
UID:9356444
END:VEVENT
BEGIN:VEVENT
DESCRIPTION:Take Route 28 for 2 miles from Exit 12\nTurn right on Main Str
 eet\nTurn left on Ward Street\nLocation Notification Content bit.ly/Frwqt
 y\n----\nAll Meetings reminder\n----\nElena studied at the Central Music 
 School of the Moscow Conservatory. We're glad\nto have Elena as our newes
 t teacher.
DTSTAMP:20260420T132813Z
DTSTART:20261108T100000
LOCATION:Community Center Reeves Building\, 457 Walnut St Newton\, MA 02460
SEQUENCE:0
SUMMARY:Holidays processing with Elena
UID:9356445
END:VEVENT
BEGIN:VTIMEZONE
TZID:US/Eastern
X-LIC-LOCATION:US/Eastern
END:VTIMEZONE
END:VCALENDAR
