BEGIN:VCALENDAR
PRODID:-//github.com/ical-org/ical.net//NONSGML ical.net 4.0//EN
VERSION:2.0
BEGIN:VEVENT
DESCRIPTION:Enter some information about your location here.\n----\nMusic 
 classes for kids.....\n----\nElena studied at the Central Music School of
  the Moscow Conservatory. We're glad\nto have Elena as our newest teacher
 .
DTEND:20260903T100000
DTSTAMP:20260420T121422Z
DTSTART:20260903T090000
LOCATION:Town Hall\, 1 Main Street Boston\, MA 02134
SEQUENCE:0
SUMMARY:Music for kids with Elena
UID:9356416
END:VEVENT
BEGIN:VEVENT
DESCRIPTION:Enter some information about your location here.\n----\nMusic 
 classes for kids.....\n----\nElena studied at the Central Music School of
  the Moscow Conservatory. We're glad\nto have Elena as our newest teacher
 .
DTEND:20260910T100000
DTSTAMP:20260420T121422Z
DTSTART:20260910T090000
LOCATION:Town Hall\, 1 Main Street Boston\, MA 02134
SEQUENCE:0
SUMMARY:Music for kids with Elena
UID:9356417
END:VEVENT
BEGIN:VEVENT
DESCRIPTION:Enter some information about your location here.\n----\nMusic 
 classes for kids.....\n----\nElena studied at the Central Music School of
  the Moscow Conservatory. We're glad\nto have Elena as our newest teacher
 .
DTEND:20260917T100000
DTSTAMP:20260420T121422Z
DTSTART:20260917T090000
LOCATION:Town Hall\, 1 Main Street Boston\, MA 02134
SEQUENCE:0
SUMMARY:Music for kids with Elena
UID:9356418
END:VEVENT
BEGIN:VEVENT
DESCRIPTION:Enter some information about your location here.\n----\nMusic 
 classes for kids.....\n----\nElena studied at the Central Music School of
  the Moscow Conservatory. We're glad\nto have Elena as our newest teacher
 .
DTEND:20260924T100000
DTSTAMP:20260420T121422Z
DTSTART:20260924T090000
LOCATION:Town Hall\, 1 Main Street Boston\, MA 02134
SEQUENCE:0
SUMMARY:Music for kids with Elena
UID:9356419
END:VEVENT
BEGIN:VEVENT
DESCRIPTION:Enter some information about your location here.\n----\nMusic 
 classes for kids.....\n----\nElena studied at the Central Music School of
  the Moscow Conservatory. We're glad\nto have Elena as our newest teacher
 .
DTEND:20261001T100000
DTSTAMP:20260420T121422Z
DTSTART:20261001T090000
LOCATION:Town Hall\, 1 Main Street Boston\, MA 02134
SEQUENCE:0
SUMMARY:Music for kids with Elena
UID:9356420
END:VEVENT
BEGIN:VEVENT
DESCRIPTION:Enter some information about your location here.\n----\nMusic 
 classes for kids.....\n----\nElena studied at the Central Music School of
  the Moscow Conservatory. We're glad\nto have Elena as our newest teacher
 .
DTEND:20261008T100000
DTSTAMP:20260420T121422Z
DTSTART:20261008T090000
LOCATION:Town Hall\, 1 Main Street Boston\, MA 02134
SEQUENCE:0
SUMMARY:Music for kids with Elena
UID:9356421
END:VEVENT
BEGIN:VEVENT
DESCRIPTION:Enter some information about your location here.\n----\nMusic 
 classes for kids.....\n----\nElena studied at the Central Music School of
  the Moscow Conservatory. We're glad\nto have Elena as our newest teacher
 .
DTEND:20261015T100000
DTSTAMP:20260420T121422Z
DTSTART:20261015T090000
LOCATION:Town Hall\, 1 Main Street Boston\, MA 02134
SEQUENCE:0
SUMMARY:Music for kids with Elena
UID:9356422
END:VEVENT
BEGIN:VEVENT
DESCRIPTION:Enter some information about your location here.\n----\nMusic 
 classes for kids.....\n----\nElena studied at the Central Music School of
  the Moscow Conservatory. We're glad\nto have Elena as our newest teacher
 .
DTEND:20261022T100000
DTSTAMP:20260420T121422Z
DTSTART:20261022T090000
LOCATION:Town Hall\, 1 Main Street Boston\, MA 02134
SEQUENCE:0
SUMMARY:Music for kids with Elena
UID:9356423
END:VEVENT
BEGIN:VEVENT
DESCRIPTION:Enter some information about your location here.\n----\nMusic 
 classes for kids.....\n----\nElena studied at the Central Music School of
  the Moscow Conservatory. We're glad\nto have Elena as our newest teacher
 .
DTEND:20261029T100000
DTSTAMP:20260420T121422Z
DTSTART:20261029T090000
LOCATION:Town Hall\, 1 Main Street Boston\, MA 02134
SEQUENCE:0
SUMMARY:Music for kids with Elena
UID:9356424
END:VEVENT
BEGIN:VEVENT
DESCRIPTION:Enter some information about your location here.\n----\nMusic 
 classes for kids.....\n----\nElena studied at the Central Music School of
  the Moscow Conservatory. We're glad\nto have Elena as our newest teacher
 .
DTEND:20261105T100000
DTSTAMP:20260420T121422Z
DTSTART:20261105T090000
LOCATION:Town Hall\, 1 Main Street Boston\, MA 02134
SEQUENCE:0
SUMMARY:Music for kids with Elena
UID:9356425
END:VEVENT
BEGIN:VTIMEZONE
TZID:US/Eastern
X-LIC-LOCATION:US/Eastern
END:VTIMEZONE
END:VCALENDAR
