BEGIN:VCALENDAR
PRODID:-//github.com/ical-org/ical.net//NONSGML ical.net 4.0//EN
VERSION:2.0
BEGIN:VEVENT
DESCRIPTION:Take Route 28 for 2 miles from Exit 12\nTurn right on Main Str
 eet\nTurn left on Ward Street\nLocation Notification Content bit.ly/Frwqt
 y\n----\nThis is a cooking class for young kids!\n----\nElena studied at 
 the Central Music School of the Moscow Conservatory. We're glad\nto have 
 Elena as our newest teacher.
DTEND:20260905T110000
DTSTAMP:20260420T121533Z
DTSTART:20260905T100000
LOCATION:Community Center Reeves Building\, 457 Walnut St Newton\, MA 02460
SEQUENCE:0
SUMMARY:Cooking with Elena
UID:9356406
END:VEVENT
BEGIN:VEVENT
DESCRIPTION:Take Route 28 for 2 miles from Exit 12\nTurn right on Main Str
 eet\nTurn left on Ward Street\nLocation Notification Content bit.ly/Frwqt
 y\n----\nThis is a cooking class for young kids!\n----\nElena studied at 
 the Central Music School of the Moscow Conservatory. We're glad\nto have 
 Elena as our newest teacher.
DTEND:20260912T110000
DTSTAMP:20260420T121533Z
DTSTART:20260912T100000
LOCATION:Community Center Reeves Building\, 457 Walnut St Newton\, MA 02460
SEQUENCE:0
SUMMARY:Cooking with Elena
UID:9356407
END:VEVENT
BEGIN:VEVENT
DESCRIPTION:Take Route 28 for 2 miles from Exit 12\nTurn right on Main Str
 eet\nTurn left on Ward Street\nLocation Notification Content bit.ly/Frwqt
 y\n----\nThis is a cooking class for young kids!\n----\nElena studied at 
 the Central Music School of the Moscow Conservatory. We're glad\nto have 
 Elena as our newest teacher.
DTEND:20260919T110000
DTSTAMP:20260420T121533Z
DTSTART:20260919T100000
LOCATION:Community Center Reeves Building\, 457 Walnut St Newton\, MA 02460
SEQUENCE:0
SUMMARY:Cooking with Elena
UID:9356408
END:VEVENT
BEGIN:VEVENT
DESCRIPTION:Take Route 28 for 2 miles from Exit 12\nTurn right on Main Str
 eet\nTurn left on Ward Street\nLocation Notification Content bit.ly/Frwqt
 y\n----\nThis is a cooking class for young kids!\n----\nElena studied at 
 the Central Music School of the Moscow Conservatory. We're glad\nto have 
 Elena as our newest teacher.
DTEND:20260926T110000
DTSTAMP:20260420T121533Z
DTSTART:20260926T100000
LOCATION:Community Center Reeves Building\, 457 Walnut St Newton\, MA 02460
SEQUENCE:0
SUMMARY:Cooking with Elena
UID:9356409
END:VEVENT
BEGIN:VEVENT
DESCRIPTION:Take Route 28 for 2 miles from Exit 12\nTurn right on Main Str
 eet\nTurn left on Ward Street\nLocation Notification Content bit.ly/Frwqt
 y\n----\nThis is a cooking class for young kids!\n----\nElena studied at 
 the Central Music School of the Moscow Conservatory. We're glad\nto have 
 Elena as our newest teacher.
DTEND:20261003T110000
DTSTAMP:20260420T121533Z
DTSTART:20261003T100000
LOCATION:Community Center Reeves Building\, 457 Walnut St Newton\, MA 02460
SEQUENCE:0
SUMMARY:Cooking with Elena
UID:9356410
END:VEVENT
BEGIN:VEVENT
DESCRIPTION:Take Route 28 for 2 miles from Exit 12\nTurn right on Main Str
 eet\nTurn left on Ward Street\nLocation Notification Content bit.ly/Frwqt
 y\n----\nThis is a cooking class for young kids!\n----\nElena studied at 
 the Central Music School of the Moscow Conservatory. We're glad\nto have 
 Elena as our newest teacher.
DTEND:20261010T110000
DTSTAMP:20260420T121533Z
DTSTART:20261010T100000
LOCATION:Community Center Reeves Building\, 457 Walnut St Newton\, MA 02460
SEQUENCE:0
SUMMARY:Cooking with Elena
UID:9356411
END:VEVENT
BEGIN:VEVENT
DESCRIPTION:Take Route 28 for 2 miles from Exit 12\nTurn right on Main Str
 eet\nTurn left on Ward Street\nLocation Notification Content bit.ly/Frwqt
 y\n----\nThis is a cooking class for young kids!\n----\nElena studied at 
 the Central Music School of the Moscow Conservatory. We're glad\nto have 
 Elena as our newest teacher.
DTEND:20261017T110000
DTSTAMP:20260420T121533Z
DTSTART:20261017T100000
LOCATION:Community Center Reeves Building\, 457 Walnut St Newton\, MA 02460
SEQUENCE:0
SUMMARY:Cooking with Elena
UID:9356412
END:VEVENT
BEGIN:VEVENT
DESCRIPTION:Take Route 28 for 2 miles from Exit 12\nTurn right on Main Str
 eet\nTurn left on Ward Street\nLocation Notification Content bit.ly/Frwqt
 y\n----\nThis is a cooking class for young kids!\n----\nElena studied at 
 the Central Music School of the Moscow Conservatory. We're glad\nto have 
 Elena as our newest teacher.
DTEND:20261024T110000
DTSTAMP:20260420T121533Z
DTSTART:20261024T100000
LOCATION:Community Center Reeves Building\, 457 Walnut St Newton\, MA 02460
SEQUENCE:0
SUMMARY:Cooking with Elena
UID:9356413
END:VEVENT
BEGIN:VEVENT
DESCRIPTION:Take Route 28 for 2 miles from Exit 12\nTurn right on Main Str
 eet\nTurn left on Ward Street\nLocation Notification Content bit.ly/Frwqt
 y\n----\nThis is a cooking class for young kids!\n----\nElena studied at 
 the Central Music School of the Moscow Conservatory. We're glad\nto have 
 Elena as our newest teacher.
DTEND:20261031T110000
DTSTAMP:20260420T121533Z
DTSTART:20261031T100000
LOCATION:Community Center Reeves Building\, 457 Walnut St Newton\, MA 02460
SEQUENCE:0
SUMMARY:Cooking with Elena
UID:9356414
END:VEVENT
BEGIN:VEVENT
DESCRIPTION:Take Route 28 for 2 miles from Exit 12\nTurn right on Main Str
 eet\nTurn left on Ward Street\nLocation Notification Content bit.ly/Frwqt
 y\n----\nThis is a cooking class for young kids!\n----\nElena studied at 
 the Central Music School of the Moscow Conservatory. We're glad\nto have 
 Elena as our newest teacher.
DTEND:20261107T110000
DTSTAMP:20260420T121533Z
DTSTART:20261107T100000
LOCATION:Community Center Reeves Building\, 457 Walnut St Newton\, MA 02460
SEQUENCE:0
SUMMARY:Cooking with Elena
UID:9356415
END:VEVENT
BEGIN:VTIMEZONE
TZID:US/Eastern
X-LIC-LOCATION:US/Eastern
END:VTIMEZONE
END:VCALENDAR
