BEGIN:VCALENDAR
PRODID:-//github.com/ical-org/ical.net//NONSGML ical.net 4.0//EN
VERSION:2.0
BEGIN:VEVENT
DESCRIPTION:Take Route 28 for 2 miles from Exit 12\nTurn right on Main Str
 eet\nTurn left on Ward Street\nLocation Notification Content bit.ly/Frwqt
 y\n----\nOur dance classes for beginning students.\nClass Description\nbi
 t.ly/Frwqty\n----\nElena studied at the Central Music School of the Mosco
 w Conservatory. We're glad\nto have Elena as our newest teacher.
DTEND:20260906T100000
DTSTAMP:20260420T121436Z
DTSTART:20260906T090000
LOCATION:Community Center Reeves Building\, 457 Walnut St Newton\, MA 02460
SEQUENCE:0
SUMMARY:Dance for tots with Elena
UID:9356386
END:VEVENT
BEGIN:VEVENT
DESCRIPTION:Take Route 28 for 2 miles from Exit 12\nTurn right on Main Str
 eet\nTurn left on Ward Street\nLocation Notification Content bit.ly/Frwqt
 y\n----\nOur dance classes for beginning students.\nClass Description\nbi
 t.ly/Frwqty\n----\nElena studied at the Central Music School of the Mosco
 w Conservatory. We're glad\nto have Elena as our newest teacher.
DTEND:20260913T100000
DTSTAMP:20260420T121436Z
DTSTART:20260913T090000
LOCATION:Community Center Reeves Building\, 457 Walnut St Newton\, MA 02460
SEQUENCE:0
SUMMARY:Dance for tots with Elena
UID:9356387
END:VEVENT
BEGIN:VEVENT
DESCRIPTION:Take Route 28 for 2 miles from Exit 12\nTurn right on Main Str
 eet\nTurn left on Ward Street\nLocation Notification Content bit.ly/Frwqt
 y\n----\nOur dance classes for beginning students.\nClass Description\nbi
 t.ly/Frwqty\n----\nElena studied at the Central Music School of the Mosco
 w Conservatory. We're glad\nto have Elena as our newest teacher.
DTEND:20260920T100000
DTSTAMP:20260420T121436Z
DTSTART:20260920T090000
LOCATION:Community Center Reeves Building\, 457 Walnut St Newton\, MA 02460
SEQUENCE:0
SUMMARY:Dance for tots with Elena
UID:9356388
END:VEVENT
BEGIN:VEVENT
DESCRIPTION:Take Route 28 for 2 miles from Exit 12\nTurn right on Main Str
 eet\nTurn left on Ward Street\nLocation Notification Content bit.ly/Frwqt
 y\n----\nOur dance classes for beginning students.\nClass Description\nbi
 t.ly/Frwqty\n----\nElena studied at the Central Music School of the Mosco
 w Conservatory. We're glad\nto have Elena as our newest teacher.
DTEND:20260927T100000
DTSTAMP:20260420T121436Z
DTSTART:20260927T090000
LOCATION:Community Center Reeves Building\, 457 Walnut St Newton\, MA 02460
SEQUENCE:0
SUMMARY:Dance for tots with Elena
UID:9356389
END:VEVENT
BEGIN:VEVENT
DESCRIPTION:Take Route 28 for 2 miles from Exit 12\nTurn right on Main Str
 eet\nTurn left on Ward Street\nLocation Notification Content bit.ly/Frwqt
 y\n----\nOur dance classes for beginning students.\nClass Description\nbi
 t.ly/Frwqty\n----\nElena studied at the Central Music School of the Mosco
 w Conservatory. We're glad\nto have Elena as our newest teacher.
DTEND:20261004T100000
DTSTAMP:20260420T121436Z
DTSTART:20261004T090000
LOCATION:Community Center Reeves Building\, 457 Walnut St Newton\, MA 02460
SEQUENCE:0
SUMMARY:Dance for tots with Elena
UID:9356390
END:VEVENT
BEGIN:VEVENT
DESCRIPTION:Take Route 28 for 2 miles from Exit 12\nTurn right on Main Str
 eet\nTurn left on Ward Street\nLocation Notification Content bit.ly/Frwqt
 y\n----\nOur dance classes for beginning students.\nClass Description\nbi
 t.ly/Frwqty\n----\nElena studied at the Central Music School of the Mosco
 w Conservatory. We're glad\nto have Elena as our newest teacher.
DTEND:20261011T100000
DTSTAMP:20260420T121436Z
DTSTART:20261011T090000
LOCATION:Community Center Reeves Building\, 457 Walnut St Newton\, MA 02460
SEQUENCE:0
SUMMARY:Dance for tots with Elena
UID:9356391
END:VEVENT
BEGIN:VEVENT
DESCRIPTION:Take Route 28 for 2 miles from Exit 12\nTurn right on Main Str
 eet\nTurn left on Ward Street\nLocation Notification Content bit.ly/Frwqt
 y\n----\nOur dance classes for beginning students.\nClass Description\nbi
 t.ly/Frwqty\n----\nElena studied at the Central Music School of the Mosco
 w Conservatory. We're glad\nto have Elena as our newest teacher.
DTEND:20261018T100000
DTSTAMP:20260420T121436Z
DTSTART:20261018T090000
LOCATION:Community Center Reeves Building\, 457 Walnut St Newton\, MA 02460
SEQUENCE:0
SUMMARY:Dance for tots with Elena
UID:9356392
END:VEVENT
BEGIN:VEVENT
DESCRIPTION:Take Route 28 for 2 miles from Exit 12\nTurn right on Main Str
 eet\nTurn left on Ward Street\nLocation Notification Content bit.ly/Frwqt
 y\n----\nOur dance classes for beginning students.\nClass Description\nbi
 t.ly/Frwqty\n----\nElena studied at the Central Music School of the Mosco
 w Conservatory. We're glad\nto have Elena as our newest teacher.
DTEND:20261025T100000
DTSTAMP:20260420T121436Z
DTSTART:20261025T090000
LOCATION:Community Center Reeves Building\, 457 Walnut St Newton\, MA 02460
SEQUENCE:0
SUMMARY:Dance for tots with Elena
UID:9356393
END:VEVENT
BEGIN:VEVENT
DESCRIPTION:Take Route 28 for 2 miles from Exit 12\nTurn right on Main Str
 eet\nTurn left on Ward Street\nLocation Notification Content bit.ly/Frwqt
 y\n----\nOur dance classes for beginning students.\nClass Description\nbi
 t.ly/Frwqty\n----\nElena studied at the Central Music School of the Mosco
 w Conservatory. We're glad\nto have Elena as our newest teacher.
DTEND:20261101T100000
DTSTAMP:20260420T121436Z
DTSTART:20261101T090000
LOCATION:Community Center Reeves Building\, 457 Walnut St Newton\, MA 02460
SEQUENCE:0
SUMMARY:Dance for tots with Elena
UID:9356394
END:VEVENT
BEGIN:VEVENT
DESCRIPTION:Take Route 28 for 2 miles from Exit 12\nTurn right on Main Str
 eet\nTurn left on Ward Street\nLocation Notification Content bit.ly/Frwqt
 y\n----\nOur dance classes for beginning students.\nClass Description\nbi
 t.ly/Frwqty\n----\nElena studied at the Central Music School of the Mosco
 w Conservatory. We're glad\nto have Elena as our newest teacher.
DTEND:20261108T100000
DTSTAMP:20260420T121436Z
DTSTART:20261108T090000
LOCATION:Community Center Reeves Building\, 457 Walnut St Newton\, MA 02460
SEQUENCE:0
SUMMARY:Dance for tots with Elena
UID:9356395
END:VEVENT
BEGIN:VTIMEZONE
TZID:US/Eastern
X-LIC-LOCATION:US/Eastern
END:VTIMEZONE
END:VCALENDAR
