BEGIN:VCALENDAR
PRODID:-//github.com/ical-org/ical.net//NONSGML ical.net 4.0//EN
VERSION:2.0
BEGIN:VEVENT
DESCRIPTION:Enter some information about your location here.\n----\nThis i
 s class is for beginners\nClass Notification Content bit.ly/Frwqty\n----\
 nFran is a classically trained opera singer who has travelled all over th
 e North\nAmerica to perform. She has won voice and violin competitions in
  Austin\,\nSeattle\, and Miami. She is a certified Music Together teacher
  and has been\nteaching classes for the last 6 years.
DTEND:20260905T120000
DTSTAMP:20260420T121431Z
DTSTART:20260905T110000
LOCATION:Town Hall\, 1 Main Street Boston\, MA 02134
SEQUENCE:0
SUMMARY:Art for Kids on Saturday Mornings with Fran
UID:9356376
END:VEVENT
BEGIN:VEVENT
DESCRIPTION:Enter some information about your location here.\n----\nThis i
 s class is for beginners\nClass Notification Content bit.ly/Frwqty\n----\
 nFran is a classically trained opera singer who has travelled all over th
 e North\nAmerica to perform. She has won voice and violin competitions in
  Austin\,\nSeattle\, and Miami. She is a certified Music Together teacher
  and has been\nteaching classes for the last 6 years.
DTEND:20260912T120000
DTSTAMP:20260420T121431Z
DTSTART:20260912T110000
LOCATION:Town Hall\, 1 Main Street Boston\, MA 02134
SEQUENCE:0
SUMMARY:Art for Kids on Saturday Mornings with Fran
UID:9356377
END:VEVENT
BEGIN:VEVENT
DESCRIPTION:Enter some information about your location here.\n----\nThis i
 s class is for beginners\nClass Notification Content bit.ly/Frwqty\n----\
 nFran is a classically trained opera singer who has travelled all over th
 e North\nAmerica to perform. She has won voice and violin competitions in
  Austin\,\nSeattle\, and Miami. She is a certified Music Together teacher
  and has been\nteaching classes for the last 6 years.
DTEND:20260919T120000
DTSTAMP:20260420T121431Z
DTSTART:20260919T110000
LOCATION:Town Hall\, 1 Main Street Boston\, MA 02134
SEQUENCE:0
SUMMARY:Art for Kids on Saturday Mornings with Fran
UID:9356378
END:VEVENT
BEGIN:VEVENT
DESCRIPTION:Enter some information about your location here.\n----\nThis i
 s class is for beginners\nClass Notification Content bit.ly/Frwqty\n----\
 nFran is a classically trained opera singer who has travelled all over th
 e North\nAmerica to perform. She has won voice and violin competitions in
  Austin\,\nSeattle\, and Miami. She is a certified Music Together teacher
  and has been\nteaching classes for the last 6 years.
DTEND:20260926T120000
DTSTAMP:20260420T121431Z
DTSTART:20260926T110000
LOCATION:Town Hall\, 1 Main Street Boston\, MA 02134
SEQUENCE:0
SUMMARY:Art for Kids on Saturday Mornings with Fran
UID:9356379
END:VEVENT
BEGIN:VEVENT
DESCRIPTION:Enter some information about your location here.\n----\nThis i
 s class is for beginners\nClass Notification Content bit.ly/Frwqty\n----\
 nFran is a classically trained opera singer who has travelled all over th
 e North\nAmerica to perform. She has won voice and violin competitions in
  Austin\,\nSeattle\, and Miami. She is a certified Music Together teacher
  and has been\nteaching classes for the last 6 years.
DTEND:20261003T120000
DTSTAMP:20260420T121431Z
DTSTART:20261003T110000
LOCATION:Town Hall\, 1 Main Street Boston\, MA 02134
SEQUENCE:0
SUMMARY:Art for Kids on Saturday Mornings with Fran
UID:9356380
END:VEVENT
BEGIN:VEVENT
DESCRIPTION:Enter some information about your location here.\n----\nThis i
 s class is for beginners\nClass Notification Content bit.ly/Frwqty\n----\
 nFran is a classically trained opera singer who has travelled all over th
 e North\nAmerica to perform. She has won voice and violin competitions in
  Austin\,\nSeattle\, and Miami. She is a certified Music Together teacher
  and has been\nteaching classes for the last 6 years.
DTEND:20261010T120000
DTSTAMP:20260420T121431Z
DTSTART:20261010T110000
LOCATION:Town Hall\, 1 Main Street Boston\, MA 02134
SEQUENCE:0
SUMMARY:Art for Kids on Saturday Mornings with Fran
UID:9356381
END:VEVENT
BEGIN:VEVENT
DESCRIPTION:Enter some information about your location here.\n----\nThis i
 s class is for beginners\nClass Notification Content bit.ly/Frwqty\n----\
 nFran is a classically trained opera singer who has travelled all over th
 e North\nAmerica to perform. She has won voice and violin competitions in
  Austin\,\nSeattle\, and Miami. She is a certified Music Together teacher
  and has been\nteaching classes for the last 6 years.
DTEND:20261017T120000
DTSTAMP:20260420T121431Z
DTSTART:20261017T110000
LOCATION:Town Hall\, 1 Main Street Boston\, MA 02134
SEQUENCE:0
SUMMARY:Art for Kids on Saturday Mornings with Fran
UID:9356382
END:VEVENT
BEGIN:VEVENT
DESCRIPTION:Enter some information about your location here.\n----\nThis i
 s class is for beginners\nClass Notification Content bit.ly/Frwqty\n----\
 nFran is a classically trained opera singer who has travelled all over th
 e North\nAmerica to perform. She has won voice and violin competitions in
  Austin\,\nSeattle\, and Miami. She is a certified Music Together teacher
  and has been\nteaching classes for the last 6 years.
DTEND:20261024T120000
DTSTAMP:20260420T121431Z
DTSTART:20261024T110000
LOCATION:Town Hall\, 1 Main Street Boston\, MA 02134
SEQUENCE:0
SUMMARY:Art for Kids on Saturday Mornings with Fran
UID:9356383
END:VEVENT
BEGIN:VEVENT
DESCRIPTION:Enter some information about your location here.\n----\nThis i
 s class is for beginners\nClass Notification Content bit.ly/Frwqty\n----\
 nFran is a classically trained opera singer who has travelled all over th
 e North\nAmerica to perform. She has won voice and violin competitions in
  Austin\,\nSeattle\, and Miami. She is a certified Music Together teacher
  and has been\nteaching classes for the last 6 years.
DTEND:20261031T120000
DTSTAMP:20260420T121431Z
DTSTART:20261031T110000
LOCATION:Town Hall\, 1 Main Street Boston\, MA 02134
SEQUENCE:0
SUMMARY:Art for Kids on Saturday Mornings with Fran
UID:9356384
END:VEVENT
BEGIN:VEVENT
DESCRIPTION:Enter some information about your location here.\n----\nThis i
 s class is for beginners\nClass Notification Content bit.ly/Frwqty\n----\
 nFran is a classically trained opera singer who has travelled all over th
 e North\nAmerica to perform. She has won voice and violin competitions in
  Austin\,\nSeattle\, and Miami. She is a certified Music Together teacher
  and has been\nteaching classes for the last 6 years.
DTEND:20261107T120000
DTSTAMP:20260420T121431Z
DTSTART:20261107T110000
LOCATION:Town Hall\, 1 Main Street Boston\, MA 02134
SEQUENCE:0
SUMMARY:Art for Kids on Saturday Mornings with Fran
UID:9356385
END:VEVENT
BEGIN:VTIMEZONE
TZID:US/Eastern
X-LIC-LOCATION:US/Eastern
END:VTIMEZONE
END:VCALENDAR
